BEGIN:VCALENDAR
PRODID:Linda Thai Events
CALSCALE:GREGORIAN
VERSION:2.0
METHOD:PUBLISH
TRANSP:TRANSPARENT
X-FROM-URL:https://www.linda-thai.com/events/2025-somatic-trauma-healing-su
	mmit
X-WR-TIMEZONE:America/New_York
BEGIN:VTIMEZONE
TZID:America/New_York
TZURL:http://tzurl.org/zoneinfo-outlook/America/New_York
X-LIC-LOCATION:America/New_York
BEGIN:DAYLIGHT
TZOFFSETFROM:-0500
TZOFFSETTO:-0400
TZNAME:EDT
DTSTART:19700308T020000
RRULE:FREQ=YEARLY;BYMONTH=3;BYDAY=2SU
END:DAYLIGHT
BEGIN:STANDARD
TZOFFSETFROM:-0400
TZOFFSETTO:-0500
TZNAME:EST
DTSTART:19701101T020000
RRULE:FREQ=YEARLY;BYMONTH=11;BYDAY=1SU
END:STANDARD
END:VTIMEZONE
BEGIN:VEVENT
UID:167792
DTSTAMP:20250628T80000Z
DTSTART:20250628T80000Z
DTEND:20250629T80000Z
LOCATION:Online Meeting/Webinar
SUMMARY:2025 Somatic Trauma Healing Summit
DESCRIPTION:The 2025 Somatic Trauma Healing Summit presents the most up-to-
	date techniques and methods for therapists and other clinicians to dive in
	to the latest methods in somatic trauma work, with some of the most sought
	-after trainers in the world.\n\n It's free, with recordings available for
	 14 days afterwards.\n\n I will be presenting a one-hour webinar about Pes
	so-Boyden System Psychomotor, as featured in Chapter 18 of The Body Keeps 
	the Score, as my preferred modality for healing disrupted attachment as a 
	result of unresolved intergenerational trauma.\n\n Dates: June 28 & 29, 20
	25\n\n URL:https://www.linda-thai.com/events/2025-somatic-trauma-healing-s
	ummit
END:VEVENT
END:VCALENDAR