BEGIN:VCALENDAR
PRODID:Linda Thai Events
CALSCALE:GREGORIAN
VERSION:2.0
METHOD:PUBLISH
TRANSP:TRANSPARENT
X-FROM-URL:https://www.linda-thai.com/events/wars-long-shadow-part-2
X-WR-TIMEZONE:America/New_York
BEGIN:VTIMEZONE
TZID:America/New_York
TZURL:http://tzurl.org/zoneinfo-outlook/America/New_York
X-LIC-LOCATION:America/New_York
BEGIN:DAYLIGHT
TZOFFSETFROM:-0500
TZOFFSETTO:-0400
TZNAME:EDT
DTSTART:19700308T020000
RRULE:FREQ=YEARLY;BYMONTH=3;BYDAY=2SU
END:DAYLIGHT
BEGIN:STANDARD
TZOFFSETFROM:-0400
TZOFFSETTO:-0500
TZNAME:EST
DTSTART:19701101T020000
RRULE:FREQ=YEARLY;BYMONTH=11;BYDAY=1SU
END:STANDARD
END:VTIMEZONE
BEGIN:VEVENT
UID:167917
DTSTAMP:20250710T80000Z
DTSTART:20250710T80000Z
DTEND:20250710T80000Z
LOCATION:Online Meeting/Webinar
SUMMARY:War's Long Shadow Part 2
DESCRIPTION:Thursday July 10, 2025 · 10-11:30am PDT\n\n Jungwon Kim and Lin
	da Thai continue their conversation on the enduring consequences of the im
	perialist wars that drive mass migration, as well as pathways to healing t
	he wound of cultural loss for members of the diaspora.\n\n Building on the
	mes from their Part 1 discussion of generational war trauma, Jungwon and L
	inda share personal stories from U.S. wars in Korea and Vietnam. They reve
	al how trauma reverberates across generations, embeds itself in families, 
	and ruptures the storyline of a people. With clarity and deep compassion, 
	they speak to the ubiquity of war trauma and tell their unique, unpredicta
	ble journeys toward spiritual and psychological home. This sequel focusses
	 on lived experience and honors the restorative power of narrative.\n\n We
	 invite you to join us in community to witness, remember, and uplift the s
	tories that resist historical erasure and reweave belonging through a glob
	al narrative of restoration.\n\n Watch Part 1 of this conversation.\n\n UR
	L:https://www.linda-thai.com/events/wars-long-shadow-part-2
END:VEVENT
END:VCALENDAR