BEGIN:VCALENDAR
PRODID:Linda Thai Events
CALSCALE:GREGORIAN
VERSION:2.0
METHOD:PUBLISH
TRANSP:TRANSPARENT
X-FROM-URL:https://www.linda-thai.com/events/the-nervous-system-and-the-bod
	y-in-spt
X-WR-TIMEZONE:America/New_York
BEGIN:VTIMEZONE
TZID:America/New_York
TZURL:http://tzurl.org/zoneinfo-outlook/America/New_York
X-LIC-LOCATION:America/New_York
BEGIN:DAYLIGHT
TZOFFSETFROM:-0500
TZOFFSETTO:-0400
TZNAME:EDT
DTSTART:19700308T020000
RRULE:FREQ=YEARLY;BYMONTH=3;BYDAY=2SU
END:DAYLIGHT
BEGIN:STANDARD
TZOFFSETFROM:-0400
TZOFFSETTO:-0500
TZNAME:EST
DTSTART:19701101T020000
RRULE:FREQ=YEARLY;BYMONTH=11;BYDAY=1SU
END:STANDARD
END:VTIMEZONE
BEGIN:VEVENT
UID:172004
DTSTAMP:20250904T230000Z
DTSTART:20250904T230000Z
DTEND:20250905T21000Z
LOCATION:Online Meeting/Webinar
SUMMARY:The Nervous System and the Body in SPT
DESCRIPTION:Linda deeply believes in the need for hands-on work around cons
	ent, touch, boundaries, embodied knowing, intimacy, relationality, and rel
	ationship skills. As such, I am so excited to be participating in the Surr
	ogate Partner Collective’s training program. What surrogate partners do wi
	th clients is collaboratively create a context/environment where the clien
	t can have embodied experiences of a missing or reparative experience.\n\n
	 To learn more about this training and to register, please visit this link
	.\n\n --------------------------------------------------------------------
	----------------------------------------\n\n In this workshop, Linda will 
	guide us through practical and experiential interventions to help clients 
	move through and complete the stress response cycle. In this way, our clie
	nts will be able to more effectively: \n\n Discern their own needs and lim
	itations from moment to moment Access the capacity to ask for what they ne
	ed Learn skills that they can take into their own lives to support themsel
	ves 
 We will also explore experientially a concept central to the Pesso Boyden 
	Psychomotor System, known as shape and countershape. The unresolved relati
	onal templates in our clients (and ourselves) cause us to unconsciously se
	ek and/or reject the missing somatic experiences of attachment. As surroga
	te partners, we are able to provide to our clients the experience of what 
	should have happened that didn’t happen — in a way that can be somaticized
	 and integrated in life-transforming ways. \n\n There will also be a brief
	 discussion about the distortion of the arousal template and the stress re
	sponse template due to childhood sexual abuse / developmentally inappropri
	ate sexual experiences, and how surrogate partners can best use this infor
	mation in support of their clients.\n\n URL:https://www.linda-thai.com/eve
	nts/the-nervous-system-and-the-body-in-spt
END:VEVENT
END:VCALENDAR