BEGIN:VCALENDAR
PRODID:Linda Thai Events
CALSCALE:GREGORIAN
VERSION:2.0
METHOD:PUBLISH
TRANSP:TRANSPARENT
X-FROM-URL:https://www.linda-thai.com/events/colonialism-narcissism-and-the
	-therapy-room
X-WR-TIMEZONE:America/New_York
BEGIN:VTIMEZONE
TZID:America/New_York
TZURL:http://tzurl.org/zoneinfo-outlook/America/New_York
X-LIC-LOCATION:America/New_York
BEGIN:DAYLIGHT
TZOFFSETFROM:-0500
TZOFFSETTO:-0400
TZNAME:EDT
DTSTART:19700308T020000
RRULE:FREQ=YEARLY;BYMONTH=3;BYDAY=2SU
END:DAYLIGHT
BEGIN:STANDARD
TZOFFSETFROM:-0400
TZOFFSETTO:-0500
TZNAME:EST
DTSTART:19701101T020000
RRULE:FREQ=YEARLY;BYMONTH=11;BYDAY=1SU
END:STANDARD
END:VTIMEZONE
BEGIN:VEVENT
UID:172045
DTSTAMP:20250903T220000Z
DTSTART:20250903T220000Z
DTEND:20250903T230000Z
LOCATION:Online Meeting/Webinar
SUMMARY:Colonialism, Narcissism, and the Therapy Room
DESCRIPTION:Wednesday September 3rd\n\n What if the traits we pathologize i
	n our clients—hyper-independence, control, perfectionism—aren’t just perso
	nal adaptations, but reflections of a much larger cultural story?\n\n In t
	his Clinical Conversation, trauma therapist and educator Linda Thai invite
	s us to explore the intersection of colonialism, narcissism, and clinical 
	practice. Through a trauma-informed, somatic, and decolonizing lens, we’ll
	 examine how colonial systems shape not only our clients’ inner worlds but
	 our therapeutic frameworks, our training, and our very presence in the ro
	om.\n\n This isn’t about blame. It’s about awareness.And from awareness, r
	epair.\n\n In this conversation, we’ll explore:\n\n How colonialism and wh
	ite supremacy culture fuel narcissistic defenses, individually and systemi
	callyWays these dynamics show up in the therapy room, often unspokenWhat i
	t means to practice therapy that honors historical, ancestral, and cultura
	l traumaHow clinicians can begin to decolonize their own nervous systems, 
	practices, and presence
URL:https://www.linda-thai.com/events/colonialism-narcissism-and-the-therap
	y-room
END:VEVENT
END:VCALENDAR