BEGIN:VCALENDAR
PRODID:Linda Thai Events
CALSCALE:GREGORIAN
VERSION:2.0
METHOD:PUBLISH
TRANSP:TRANSPARENT
X-FROM-URL:https://www.linda-thai.com/events/somatic-hacks-for-better-sleep
	-quick-and-easy-tools-for-your-clients-and-yourself
X-WR-TIMEZONE:America/New_York
BEGIN:VTIMEZONE
TZID:America/New_York
TZURL:http://tzurl.org/zoneinfo-outlook/America/New_York
X-LIC-LOCATION:America/New_York
BEGIN:DAYLIGHT
TZOFFSETFROM:-0500
TZOFFSETTO:-0400
TZNAME:EDT
DTSTART:19700308T020000
RRULE:FREQ=YEARLY;BYMONTH=3;BYDAY=2SU
END:DAYLIGHT
BEGIN:STANDARD
TZOFFSETFROM:-0400
TZOFFSETTO:-0500
TZNAME:EST
DTSTART:19701101T020000
RRULE:FREQ=YEARLY;BYMONTH=11;BYDAY=1SU
END:STANDARD
END:VTIMEZONE
BEGIN:VEVENT
UID:181063
DTSTAMP:20251122T00000Z
DTSTART:20251122T00000Z
DTEND:20251122T20000Z
LOCATION:Online Meeting/Webinar
SUMMARY:Somatic Hacks for Better Sleep: Quick and Easy Tools for Your Clien
	ts (and Yourself)
DESCRIPTION:So many of our clients—and let’s be honest, so many of us—are w
	alking around exhausted. We know sleep matters, but we rarely realize just
	 how much poor sleep is shaping our physical and mental health. It ramps u
	p anxiety, affects our moods, throws off our focus, and can even impact ou
	r ability to heal.\n\n Sleep is one of the most powerful, and most overloo
	ked, regulators of the nervous system. When our bodies don’t get the chanc
	e to fully rest, the sympathetic system stays activated, mimicking symptom
	s we might otherwise label as trauma, ADHD, or anxiety.\n\n In this worksh
	op, I’ll share simple, science-backed somatic hacks that will help you re-
	educate the body to relax and restore itself. This doesn’t require any ela
	borate routines or expensive tools, just practical tools you can use right
	 away in your practice, and for yourself.\n\n Because when we sleep well, 
	our entire system recalibrates toward safety, clarity, and resilience, and
	 we could all use more of that!\n\n I hope you’ll join me!\n\n URL:https:/
	/www.linda-thai.com/events/somatic-hacks-for-better-sleep-quick-and-easy-t
	ools-for-your-clients-and-yourself
END:VEVENT
END:VCALENDAR