BEGIN:VCALENDAR
PRODID:Linda Thai Events
CALSCALE:GREGORIAN
VERSION:2.0
METHOD:PUBLISH
TRANSP:TRANSPARENT
X-FROM-URL:https://www.linda-thai.com/events/36th-annual-boston-internation
	al-trauma-conference-3
X-WR-TIMEZONE:America/New_York
BEGIN:VTIMEZONE
TZID:America/New_York
TZURL:http://tzurl.org/zoneinfo-outlook/America/New_York
X-LIC-LOCATION:America/New_York
BEGIN:DAYLIGHT
TZOFFSETFROM:-0500
TZOFFSETTO:-0400
TZNAME:EDT
DTSTART:19700308T020000
RRULE:FREQ=YEARLY;BYMONTH=3;BYDAY=2SU
END:DAYLIGHT
BEGIN:STANDARD
TZOFFSETFROM:-0400
TZOFFSETTO:-0500
TZNAME:EST
DTSTART:19701101T020000
RRULE:FREQ=YEARLY;BYMONTH=11;BYDAY=1SU
END:STANDARD
END:VTIMEZONE
BEGIN:VEVENT
UID:181820
DTSTAMP:20250514T80000Z
DTSTART:20250514T80000Z
DTEND:20250517T80000Z
LOCATION:Online Meeting/Webinar
SUMMARY:36th Annual Boston International Trauma Conference
DESCRIPTION:May 14-17, 2025\n\n 36th Annual Boston International Trauma Con
	ference\n\n Boston, MA\n\n
I am delighted to announce that I will be presenting two workshops at the 3
	6th annual Boston Trauma Conference, May 14-17, 2025.\n\n
Teaming up with Mariah Rooney, there will be a three-hour workshop explorin
	g Pesso-Boyden System Psychomotor, which is featured in Chapter 18 of The 
	Body Keeps the Score.\n\n
I will also be offering a two hour workshop on War, Displacement, and the L
	ong Shadow of Trauma: The 50th Anniversary of the Fall of Saigon where I w
	ill combine research with narrative reconstruction.\n\n
For mental health clinicians, this milestone is more than a historical even
	t; it is a crucial opportunity to deepen our understanding of the lasting 
	psychological effects of war, authoritarian trauma, forced migration, and 
	intergenerational trauma upon those who directly experience them and their
	 descendants and communities at large.\n\n
For more information about the conference and to register: https://traumare
	searchfoundation.org/lp/36th-annual-boston-trauma-conference/\n\n URL:http
	s://www.linda-thai.com/events/36th-annual-boston-international-trauma-conf
	erence-3
END:VEVENT
END:VCALENDAR